BEGIN:VCALENDAR
PRODID:-//Solspace/Calendar 2.x//EN
VERSION:2.0
CALSCALE:GREGORIAN
BEGIN:VEVENT
UID:eb7f5965836104d1941f0b9f1ce3ade5@solspace.com
DTSTAMP:20260422T225807
DTSTART:20260527T123000
DTEND:20260527T143000
RRULE:FREQ=WEEKLY;UNTIL=20260909T235959Z;INTERVAL=1;BYDAY=WE
SUMMARY:Giant Bubbles
END:VEVENT
END:VCALENDAR
