BEGIN:VCALENDAR
PRODID:-//Solspace/Calendar 2.x//EN
VERSION:2.0
CALSCALE:GREGORIAN
BEGIN:VEVENT
UID:b21fad8a4333c52723e69b2df187473d@solspace.com
DTSTAMP:20260422T133340
DTSTART:20260412T100000
DTEND:20260412T120000
SUMMARY:Kids Bike Lessons | Morning Session
END:VEVENT
BEGIN:VEVENT
UID:f298606e7102128502268a630a654924@solspace.com
DTSTAMP:20260422T133340
DTSTART:20260418T100000
DTEND:20260418T120000
SUMMARY:Kids Bike Lessons | Morning Session
END:VEVENT
BEGIN:VEVENT
UID:273070a0131a34070a48a05945f309db@solspace.com
DTSTAMP:20260422T133340
DTSTART:20260425T100000
DTEND:20260425T120000
SUMMARY:Kids Bike Lessons | Morning Session
END:VEVENT
END:VCALENDAR
