BEGIN:VCALENDAR
PRODID:-//Solspace/Calendar 2.x//EN
VERSION:2.0
CALSCALE:GREGORIAN
BEGIN:VEVENT
UID:afa1d66cf72d0b1597683bea477ede71@solspace.com
DTSTAMP:20260422T134031
DTSTART:20260603T110000
DTEND:20260603T120000
RRULE:FREQ=WEEKLY;UNTIL=20261014T235959Z;INTERVAL=1;BYDAY=WE
SUMMARY:Chair Yoga
END:VEVENT
END:VCALENDAR
