BEGIN:VCALENDAR
PRODID:-//Solspace/Calendar 2.x//EN
VERSION:2.0
CALSCALE:GREGORIAN
BEGIN:VEVENT
UID:7a504b979aec7c9ddd01e04fb8b56a51@solspace.com
DTSTAMP:20260422T030408
DTSTART:20240520T100000
DTEND:20240520T170000
RRULE:FREQ=DAILY;UNTIL=20241014T235959Z;INTERVAL=1
SUMMARY:Plaza33 Reading Room
END:VEVENT
END:VCALENDAR
